BEGIN:VCALENDAR
VERSION:2.0
PRODID:-//Nigerian Community Leeds - ECPv6.15.10//NONSGML v1.0//EN
CALSCALE:GREGORIAN
METHOD:PUBLISH
X-WR-CALNAME:Nigerian Community Leeds
X-ORIGINAL-URL:https://nigerialeeds.org.uk
X-WR-CALDESC:Events for Nigerian Community Leeds
REFRESH-INTERVAL;VALUE=DURATION:PT1H
X-Robots-Tag:noindex
X-PUBLISHED-TTL:PT1H
BEGIN:VTIMEZONE
TZID:UTC
BEGIN:STANDARD
TZOFFSETFROM:+0000
TZOFFSETTO:+0000
TZNAME:UTC
DTSTART:20210101T000000
END:STANDARD
END:VTIMEZONE
BEGIN:VTIMEZONE
TZID:Atlantic/Azores
BEGIN:DAYLIGHT
TZOFFSETFROM:-0100
TZOFFSETTO:+0000
TZNAME:+00
DTSTART:20220327T010000
END:DAYLIGHT
BEGIN:STANDARD
TZOFFSETFROM:+0000
TZOFFSETTO:-0100
TZNAME:-01
DTSTART:20221030T010000
END:STANDARD
BEGIN:DAYLIGHT
TZOFFSETFROM:-0100
TZOFFSETTO:+0000
TZNAME:+00
DTSTART:20230326T010000
END:DAYLIGHT
BEGIN:STANDARD
TZOFFSETFROM:+0000
TZOFFSETTO:-0100
TZNAME:-01
DTSTART:20231029T010000
END:STANDARD
BEGIN:DAYLIGHT
TZOFFSETFROM:-0100
TZOFFSETTO:+0000
TZNAME:+00
DTSTART:20240331T010000
END:DAYLIGHT
BEGIN:STANDARD
TZOFFSETFROM:+0000
TZOFFSETTO:-0100
TZNAME:-01
DTSTART:20241027T010000
END:STANDARD
END:VTIMEZONE
BEGIN:VEVENT
DTSTART;TZID=UTC:20250517T160000
DTEND;TZID=UTC:20250517T160000
DTSTAMP:20260423T155301
CREATED:20220118T201251Z
LAST-MODIFIED:20250403T215111Z
UID:4471-1747497600-1747497600@nigerialeeds.org.uk
SUMMARY:Annual Gala Fundraising
DESCRIPTION:More information >>
URL:https://nigerialeeds.org.uk/event/4471/
CATEGORIES:Party
ORGANIZER;CN="Nigerian Community Leeds":MAILTO:admin@nigerialeeds.org.uk
END:VEVENT
BEGIN:VEVENT
DTSTART;TZID=UTC:20231014T170000
DTEND;TZID=UTC:20231014T230000
DTSTAMP:20260423T155301
CREATED:20220119T134839Z
LAST-MODIFIED:20230831T111136Z
UID:4505-1697302800-1697324400@nigerialeeds.org.uk
SUMMARY:Nigeria Independence Day
DESCRIPTION:Nigeria Independence Day \nWe celebrate this diverse nation and its glorious green and white flag. Happy Independence Day\, Nigeria!
URL:https://nigerialeeds.org.uk/event/nigeria-independence-day/
LOCATION:Seaside\, Bridlington South Beach\, LEEDS\, YO15 3BZ\, United Kingdom
CATEGORIES:Party
ATTACH;FMTTYPE=image/jpeg:https://nigerialeeds.org.uk/wp-content/uploads/2022/01/maxresdefault.jpg
ORGANIZER;CN="Nigerian Community Leeds":MAILTO:admin@nigerialeeds.org.uk
END:VEVENT
BEGIN:VEVENT
DTSTART;VALUE=DATE:20231001
DTEND;VALUE=DATE:20231101
DTSTAMP:20260423T155301
CREATED:20220119T134210Z
LAST-MODIFIED:20230101T115431Z
UID:4501-1696118400-1698796799@nigerialeeds.org.uk
SUMMARY:Black History Month
DESCRIPTION:Black History Month \nThroughout the month of October
URL:https://nigerialeeds.org.uk/event/black-history-month/
LOCATION:Seaside\, Bridlington South Beach\, LEEDS\, YO15 3BZ\, United Kingdom
CATEGORIES:Seminar
ATTACH;FMTTYPE=image/jpeg:https://nigerialeeds.org.uk/wp-content/uploads/2022/01/blackhistory.jpeg
ORGANIZER;CN="Nigerian Community Leeds":MAILTO:admin@nigerialeeds.org.uk
END:VEVENT
BEGIN:VEVENT
DTSTART;VALUE=DATE:20230901
DTEND;VALUE=DATE:20231001
DTSTAMP:20260423T155301
CREATED:20220119T133625Z
LAST-MODIFIED:20230101T115304Z
UID:4498-1693526400-1696118399@nigerialeeds.org.uk
SUMMARY:Welcome New Nigerian Students
DESCRIPTION:Attend welcome week events for Leeds University and Leeds Beckett University to welcome Nigerian students. \nPromote NCL activities within the university. \nProvide NCL the opportunity to introduce itself to new students.
URL:https://nigerialeeds.org.uk/event/welcome-new-nigerian-students/
LOCATION:Seaside\, Bridlington South Beach\, LEEDS\, YO15 3BZ\, United Kingdom
CATEGORIES:Family Fun
ATTACH;FMTTYPE=image/jpeg:https://nigerialeeds.org.uk/wp-content/uploads/2017/11/MG_6499.jpg
ORGANIZER;CN="Nigerian Community Leeds":MAILTO:admin@nigerialeeds.org.uk
END:VEVENT
BEGIN:VEVENT
DTSTART;VALUE=DATE:20230827
DTEND;VALUE=DATE:20230829
DTSTAMP:20260423T155301
CREATED:20220119T131329Z
LAST-MODIFIED:20230101T115157Z
UID:4493-1693094400-1693267199@nigerialeeds.org.uk
SUMMARY:Leeds City Carnival
DESCRIPTION:Leeds West Indian Carnival \nShowcasing Nigeria culture in the Leeds Carnival.
URL:https://nigerialeeds.org.uk/event/leeds-city-carnival/
LOCATION:Carnival\, Harehills Ln\, Leeds\, LS7 4HA\, United Kingdom
ATTACH;FMTTYPE=image/png:https://nigerialeeds.org.uk/wp-content/uploads/2022/01/carnival.png
ORGANIZER;CN="Nigerian Community Leeds":MAILTO:admin@nigerialeeds.org.uk
END:VEVENT
BEGIN:VEVENT
DTSTART;TZID=UTC:20230806T160000
DTEND;TZID=UTC:20230806T180000
DTSTAMP:20260423T155301
CREATED:20230101T115001Z
LAST-MODIFIED:20230101T115001Z
UID:4991-1691337600-1691344800@nigerialeeds.org.uk
SUMMARY:General Meeting
DESCRIPTION:NCL General Meeting \n\nUpdates on activities to-date\nMeeting led by NCL elected executives with members to discuss matters concerning the community
URL:https://nigerialeeds.org.uk/event/general-meeting-2/
END:VEVENT
BEGIN:VEVENT
DTSTART;VALUE=DATE:20230624
DTEND;VALUE=DATE:20230625
DTSTAMP:20260423T155301
CREATED:20220118T204704Z
LAST-MODIFIED:20230101T114638Z
UID:4488-1687564800-1687651199@nigerialeeds.org.uk
SUMMARY:Family Trip
DESCRIPTION:Family Trip \nA family day trip to the seaside on a hired coach. Open to non-NCL members and friends. Date to be confirmed and more information to follow.
URL:https://nigerialeeds.org.uk/event/family-trip/
LOCATION:Seaside\, Bridlington South Beach\, LEEDS\, YO15 3BZ\, United Kingdom
CATEGORIES:Family Fun
ATTACH;FMTTYPE=image/jpeg:https://nigerialeeds.org.uk/wp-content/uploads/2022/01/WhatsApp-Image-2022-06-21-at-9.39.33-AM.jpeg
ORGANIZER;CN="Nigerian Community Leeds":MAILTO:admin@nigerialeeds.org.uk
END:VEVENT
BEGIN:VEVENT
DTSTART;TZID=UTC:20230617T120000
DTEND;TZID=UTC:20230617T180000
DTSTAMP:20260423T155301
CREATED:20220118T203514Z
LAST-MODIFIED:20230510T211350Z
UID:4482-1687003200-1687024800@nigerialeeds.org.uk
SUMMARY:LACoN - Senior
DESCRIPTION:LACoN Senior \nThe objective is to boost community cohesion and use sports as a bridge to establish strategic alliances within the African communities and other communities in Leeds and environs.
URL:https://nigerialeeds.org.uk/event/lacon-senior/
LOCATION:lacon-senior\, Leopold Street\, Chapeltown\, LEEDS\, West Yorkshire\, LeopoldLS7 4AW\, United Kingdom
CATEGORIES:Family Fun
ATTACH;FMTTYPE=image/jpeg:https://nigerialeeds.org.uk/wp-content/uploads/2022/01/lacon23.jpeg
ORGANIZER;CN="Nigerian Community Leeds":MAILTO:admin@nigerialeeds.org.uk
END:VEVENT
BEGIN:VEVENT
DTSTART;TZID=UTC:20230517T130000
DTEND;TZID=UTC:20230517T163000
DTSTAMP:20260423T155301
CREATED:20220118T203021Z
LAST-MODIFIED:20230223T104118Z
UID:4478-1684328400-1684341000@nigerialeeds.org.uk
SUMMARY:LACoN - Junior
DESCRIPTION:LACoN – Junior \nThis is a popular inter school event organise by Nigerian Community Leeds within the LS9 area and beyond. The objective is to encourage young juniors in primary schools within the Leeds community.
URL:https://nigerialeeds.org.uk/event/junior-lacon/
LOCATION:lacon-junior\, Clark Lane\, LEEDS\, West Yorkshire\, LS9 8PN\, United Kingdom
CATEGORIES:Family Fun
ATTACH;FMTTYPE=image/jpeg:https://nigerialeeds.org.uk/wp-content/uploads/2020/03/img_0742.jpg
ORGANIZER;CN="Nigerian Community Leeds":MAILTO:admin@nigerialeeds.org.uk
END:VEVENT
BEGIN:VEVENT
DTSTART;TZID=UTC:20230514T160000
DTEND;TZID=UTC:20230514T180000
DTSTAMP:20260423T155301
CREATED:20220118T200059Z
LAST-MODIFIED:20230506T151407Z
UID:4468-1684080000-1684087200@nigerialeeds.org.uk
SUMMARY:General Meeting
DESCRIPTION:NCL – General Meeting \n\nGeneral overview and update of activities for the year\nMeeting led by NCL elected executives with members to discuss matters concerning the community
URL:https://nigerialeeds.org.uk/event/general-meeting/
LOCATION:RCCG Church\, 15-17 Walter Street\, Leeds\, LS4 2BB\, United Kingdom
ORGANIZER;CN="Nigerian Community Leeds":MAILTO:admin@nigerialeeds.org.uk
END:VEVENT
BEGIN:VEVENT
DTSTART;TZID=UTC:20230414T190000
DTEND;TZID=UTC:20230602T200000
DTSTAMP:20260423T155301
CREATED:20220118T202130Z
LAST-MODIFIED:20230101T113710Z
UID:4475-1681498800-1685736000@nigerialeeds.org.uk
SUMMARY:Friday evening's football sessions
DESCRIPTION:LACoN Football training \nThese Fridays training sessions are organised by NCL and sponsored by Leeds City Council to prepare the Nigeria football team and the wider African community potential participants for the annual LACON Football Tournament.  \nThis is a 10 weeks an hour Friday football sessions. Don’t miss it
URL:https://nigerialeeds.org.uk/event/outdoor-activity/
LOCATION:lacon-senior\, Leopold Street\, Chapeltown\, LEEDS\, West Yorkshire\, LeopoldLS7 4AW\, United Kingdom
CATEGORIES:Family Fun
ATTACH;FMTTYPE=image/jpeg:https://nigerialeeds.org.uk/wp-content/uploads/2020/03/img_0672.jpg
ORGANIZER;CN="Nigerian Community Leeds":MAILTO:admin@nigerialeeds.org.uk
END:VEVENT
BEGIN:VEVENT
DTSTART;TZID=UTC:20230318T120000
DTEND;TZID=UTC:20230318T160000
DTSTAMP:20260423T155301
CREATED:20220118T195338Z
LAST-MODIFIED:20230226T135258Z
UID:4461-1679140800-1679155200@nigerialeeds.org.uk
SUMMARY:International Women's Day
DESCRIPTION:International Women’s Day is celebrated in many countries around the world. It is a day when women are recognisned for their achievements without regard to divisions\, whether national\, ethnic\, linguistic\, cultural\, economic or political and eliminate discrimination against women. Date to be confirmed \nClick here to reserve your ticket (free)
URL:https://nigerialeeds.org.uk/event/international-womens-day/
LOCATION:International Women’s Day\, THE BAME HUB: REGINALD TERRACE\, Leeds\, West Yorkshire\, LS7 3EZ\, United Kingdom
CATEGORIES:Seminar
ATTACH;FMTTYPE=image/jpeg:https://nigerialeeds.org.uk/wp-content/uploads/2022/01/iwd.jpeg
ORGANIZER;CN="Nigerian Community Leeds":MAILTO:admin@nigerialeeds.org.uk
END:VEVENT
BEGIN:VEVENT
DTSTART;TZID=UTC:20230318T120000
DTEND;TZID=UTC:20230318T133000
DTSTAMP:20260423T155301
CREATED:20220304T160425Z
LAST-MODIFIED:20230101T111733Z
UID:4798-1679140800-1679146200@nigerialeeds.org.uk
SUMMARY:Health Seminar (subject to be confirmed)
DESCRIPTION:The subject of the day is ye to be decided – this will be updated in due course
URL:https://nigerialeeds.org.uk/event/educational-discussion-on-postnatal-depression/
END:VEVENT
BEGIN:VEVENT
DTSTART;TZID=UTC:20230225T120000
DTEND;TZID=UTC:20230225T133000
DTSTAMP:20260423T155301
CREATED:20220118T193315Z
LAST-MODIFIED:20230101T110902Z
UID:4455-1677326400-1677331800@nigerialeeds.org.uk
SUMMARY:Health Seminar
DESCRIPTION:Health Awareness \nThe webinar will choose a health topic to discuss. This will be announced in due course
URL:https://nigerialeeds.org.uk/event/health-seminar/
CATEGORIES:Seminar
ATTACH;FMTTYPE=image/jpeg:https://nigerialeeds.org.uk/wp-content/uploads/2022/01/coronavirus-2.jpg
ORGANIZER;CN="Nigerian Community Leeds":MAILTO:admin@nigerialeeds.org.uk
END:VEVENT
BEGIN:VEVENT
DTSTART;TZID=Atlantic/Azores:20230205T160000
DTEND;TZID=Atlantic/Azores:20230205T180000
DTSTAMP:20260423T155301
CREATED:20200624T144604Z
LAST-MODIFIED:20230101T110641Z
UID:3775-1675612800-1675620000@nigerialeeds.org.uk
SUMMARY:NCL General Meeting
DESCRIPTION:Nigerian Community General Meeting \n\nOverview of 2022 projects and events.\nMeeting led by NCL elected executives with members to discuss matters concerning the community
URL:https://nigerialeeds.org.uk/event/ncl-general-meeting/
LOCATION:RCCG Church\, 15-17 Walter Street\, Leeds\, LS4 2BB\, United Kingdom
CATEGORIES:Meeting
ATTACH;FMTTYPE=image/jpeg:https://nigerialeeds.org.uk/wp-content/uploads/2013/03/logo2.jpg
ORGANIZER;CN="Nigerian Community Leeds":MAILTO:admin@nigerialeeds.org.uk
END:VEVENT
BEGIN:VEVENT
DTSTART;TZID=UTC:20221106T160000
DTEND;TZID=UTC:20221106T180000
DTSTAMP:20260423T155301
CREATED:20220119T135332Z
LAST-MODIFIED:20220119T135332Z
UID:4510-1667750400-1667757600@nigerialeeds.org.uk
SUMMARY:Annual General Meeting
DESCRIPTION:Annual General Meeting \nGeneral overview of 2022 events
URL:https://nigerialeeds.org.uk/event/annual-general-meeting/
LOCATION:RCCG Church\, 15-17 Walter Street\, Leeds\, LS4 2BB\, United Kingdom
CATEGORIES:Meeting
ATTACH;FMTTYPE=image/jpeg:https://nigerialeeds.org.uk/wp-content/uploads/2018/06/logo1.jpg
ORGANIZER;CN="Nigerian Community Leeds":MAILTO:admin@nigerialeeds.org.uk
END:VEVENT
BEGIN:VEVENT
DTSTART;TZID=UTC:20220416T120000
DTEND;TZID=UTC:20220416T133000
DTSTAMP:20260423T155301
CREATED:20220118T195708Z
LAST-MODIFIED:20220118T195708Z
UID:4465-1650110400-1650115800@nigerialeeds.org.uk
SUMMARY:Webinar
DESCRIPTION:Mental Health \nA webinar about how you cope with ups and downs of everyday life as our mental health is essential to our overall well-being
URL:https://nigerialeeds.org.uk/event/webinar/
LOCATION:Seaside\, Bridlington South Beach\, LEEDS\, YO15 3BZ\, United Kingdom
CATEGORIES:Seminar
ATTACH;FMTTYPE=image/jpeg:https://nigerialeeds.org.uk/wp-content/uploads/2022/01/ngo.jpg
ORGANIZER;CN="Nigerian Community Leeds":MAILTO:admin@nigerialeeds.org.uk
END:VEVENT
BEGIN:VEVENT
DTSTART;TZID=UTC:20220315T120000
DTEND;TZID=UTC:20220315T120000
DTSTAMP:20260423T155301
CREATED:20220304T160720Z
LAST-MODIFIED:20220304T161300Z
UID:4797-1647345600-1647345600@nigerialeeds.org.uk
SUMMARY:Educational Discussion On Postnatal Depression
DESCRIPTION:Fewer people are aware that as many as 10% of all recently delivered women develop postnatal depression. \nThe Association for Post-Natal Illness is the leading organisation in its field. It was established in 1979 to: Provide support to mothers suffering from post-natal illness and Increase public awareness of the illness. \nWe will be holding an interactive zoom session on Tuesday 15th March at 12pm on Post Natal Depression. An expert from APNI\, with over 25 years of experience working on the issue of Post Natal Depression will provide information on the cause\, symptoms\, the best methods for recovery and the support available. \nPlease join us via the following link: \nTopic: Nigerian Community Leeds’ Zoom Meeting – Educational Discussion on Postnatal Depression\nTime: Mar 15\, 2022 12:00 PM London\nJoin Zoom Meeting: Educational Discussion on Postnatal Depression\nhttps://us06web.zoom.us/j/82598565293?pwd=cHFqL0h3Mm9aeS9BR2dQSzVadGpZUT09\nMeeting ID: 825 9856 5293\nPasscode: 538270
URL:https://nigerialeeds.org.uk/event/educational-discussion-on-postnatal-depression-2/
LOCATION:virtual\, United Kingdom
ORGANIZER;CN="Nigerian Community Leeds":MAILTO:admin@nigerialeeds.org.uk
END:VEVENT
END:VCALENDAR