BEGIN:VCALENDAR
VERSION:2.0
PRODID:-//Nigerian Community Leeds - ECPv6.15.10//NONSGML v1.0//EN
CALSCALE:GREGORIAN
METHOD:PUBLISH
X-ORIGINAL-URL:https://nigerialeeds.org.uk
X-WR-CALDESC:Events for Nigerian Community Leeds
REFRESH-INTERVAL;VALUE=DURATION:PT1H
X-Robots-Tag:noindex
X-PUBLISHED-TTL:PT1H
BEGIN:VTIMEZONE
TZID:Atlantic/Azores
BEGIN:DAYLIGHT
TZOFFSETFROM:-0100
TZOFFSETTO:+0000
TZNAME:+00
DTSTART:20220327T010000
END:DAYLIGHT
BEGIN:STANDARD
TZOFFSETFROM:+0000
TZOFFSETTO:-0100
TZNAME:-01
DTSTART:20221030T010000
END:STANDARD
BEGIN:DAYLIGHT
TZOFFSETFROM:-0100
TZOFFSETTO:+0000
TZNAME:+00
DTSTART:20230326T010000
END:DAYLIGHT
BEGIN:STANDARD
TZOFFSETFROM:+0000
TZOFFSETTO:-0100
TZNAME:-01
DTSTART:20231029T010000
END:STANDARD
BEGIN:DAYLIGHT
TZOFFSETFROM:-0100
TZOFFSETTO:+0000
TZNAME:+00
DTSTART:20240331T010000
END:DAYLIGHT
BEGIN:STANDARD
TZOFFSETFROM:+0000
TZOFFSETTO:-0100
TZNAME:-01
DTSTART:20241027T010000
END:STANDARD
END:VTIMEZONE
BEGIN:VTIMEZONE
TZID:UTC
BEGIN:STANDARD
TZOFFSETFROM:+0000
TZOFFSETTO:+0000
TZNAME:UTC
DTSTART:20210101T000000
END:STANDARD
END:VTIMEZONE
BEGIN:VEVENT
DTSTART;TZID=Atlantic/Azores:20230205T160000
DTEND;TZID=Atlantic/Azores:20230205T180000
DTSTAMP:20260423T212726
CREATED:20200624T144604Z
LAST-MODIFIED:20230101T110641Z
UID:3775-1675612800-1675620000@nigerialeeds.org.uk
SUMMARY:NCL General Meeting
DESCRIPTION:Nigerian Community General Meeting \n\nOverview of 2022 projects and events.\nMeeting led by NCL elected executives with members to discuss matters concerning the community
URL:https://nigerialeeds.org.uk/event/ncl-general-meeting/
LOCATION:RCCG Church\, 15-17 Walter Street\, Leeds\, LS4 2BB\, United Kingdom
CATEGORIES:Meeting
ATTACH;FMTTYPE=image/jpeg:https://nigerialeeds.org.uk/wp-content/uploads/2013/03/logo2.jpg
ORGANIZER;CN="Nigerian Community Leeds":MAILTO:admin@nigerialeeds.org.uk
END:VEVENT
BEGIN:VEVENT
DTSTART;TZID=UTC:20221106T160000
DTEND;TZID=UTC:20221106T180000
DTSTAMP:20260423T212726
CREATED:20220119T135332Z
LAST-MODIFIED:20220119T135332Z
UID:4510-1667750400-1667757600@nigerialeeds.org.uk
SUMMARY:Annual General Meeting
DESCRIPTION:Annual General Meeting \nGeneral overview of 2022 events
URL:https://nigerialeeds.org.uk/event/annual-general-meeting/
LOCATION:RCCG Church\, 15-17 Walter Street\, Leeds\, LS4 2BB\, United Kingdom
CATEGORIES:Meeting
ATTACH;FMTTYPE=image/jpeg:https://nigerialeeds.org.uk/wp-content/uploads/2018/06/logo1.jpg
ORGANIZER;CN="Nigerian Community Leeds":MAILTO:admin@nigerialeeds.org.uk
END:VEVENT
END:VCALENDAR