BEGIN:VCALENDAR
VERSION:2.0
PRODID:-//Nigerian Community Leeds - ECPv6.15.10//NONSGML v1.0//EN
CALSCALE:GREGORIAN
METHOD:PUBLISH
X-ORIGINAL-URL:https://nigerialeeds.org.uk
X-WR-CALDESC:Events for Nigerian Community Leeds
REFRESH-INTERVAL;VALUE=DURATION:PT1H
X-Robots-Tag:noindex
X-PUBLISHED-TTL:PT1H
BEGIN:VTIMEZONE
TZID:UTC
BEGIN:STANDARD
TZOFFSETFROM:+0000
TZOFFSETTO:+0000
TZNAME:UTC
DTSTART:20220101T000000
END:STANDARD
END:VTIMEZONE
BEGIN:VEVENT
DTSTART;VALUE=DATE:20230901
DTEND;VALUE=DATE:20231001
DTSTAMP:20260423T201748
CREATED:20220119T133625Z
LAST-MODIFIED:20230101T115304Z
UID:4498-1693526400-1696118399@nigerialeeds.org.uk
SUMMARY:Welcome New Nigerian Students
DESCRIPTION:Attend welcome week events for Leeds University and Leeds Beckett University to welcome Nigerian students. \nPromote NCL activities within the university. \nProvide NCL the opportunity to introduce itself to new students.
URL:https://nigerialeeds.org.uk/event/welcome-new-nigerian-students/
LOCATION:Seaside\, Bridlington South Beach\, LEEDS\, YO15 3BZ\, United Kingdom
CATEGORIES:Family Fun
ATTACH;FMTTYPE=image/jpeg:https://nigerialeeds.org.uk/wp-content/uploads/2017/11/MG_6499.jpg
ORGANIZER;CN="Nigerian Community Leeds":MAILTO:admin@nigerialeeds.org.uk
END:VEVENT
BEGIN:VEVENT
DTSTART;VALUE=DATE:20230624
DTEND;VALUE=DATE:20230625
DTSTAMP:20260423T201748
CREATED:20220118T204704Z
LAST-MODIFIED:20230101T114638Z
UID:4488-1687564800-1687651199@nigerialeeds.org.uk
SUMMARY:Family Trip
DESCRIPTION:Family Trip \nA family day trip to the seaside on a hired coach. Open to non-NCL members and friends. Date to be confirmed and more information to follow.
URL:https://nigerialeeds.org.uk/event/family-trip/
LOCATION:Seaside\, Bridlington South Beach\, LEEDS\, YO15 3BZ\, United Kingdom
CATEGORIES:Family Fun
ATTACH;FMTTYPE=image/jpeg:https://nigerialeeds.org.uk/wp-content/uploads/2022/01/WhatsApp-Image-2022-06-21-at-9.39.33-AM.jpeg
ORGANIZER;CN="Nigerian Community Leeds":MAILTO:admin@nigerialeeds.org.uk
END:VEVENT
BEGIN:VEVENT
DTSTART;TZID=UTC:20230617T120000
DTEND;TZID=UTC:20230617T180000
DTSTAMP:20260423T201748
CREATED:20220118T203514Z
LAST-MODIFIED:20230510T211350Z
UID:4482-1687003200-1687024800@nigerialeeds.org.uk
SUMMARY:LACoN - Senior
DESCRIPTION:LACoN Senior \nThe objective is to boost community cohesion and use sports as a bridge to establish strategic alliances within the African communities and other communities in Leeds and environs.
URL:https://nigerialeeds.org.uk/event/lacon-senior/
LOCATION:lacon-senior\, Leopold Street\, Chapeltown\, LEEDS\, West Yorkshire\, LeopoldLS7 4AW\, United Kingdom
CATEGORIES:Family Fun
ATTACH;FMTTYPE=image/jpeg:https://nigerialeeds.org.uk/wp-content/uploads/2022/01/lacon23.jpeg
ORGANIZER;CN="Nigerian Community Leeds":MAILTO:admin@nigerialeeds.org.uk
END:VEVENT
BEGIN:VEVENT
DTSTART;TZID=UTC:20230517T130000
DTEND;TZID=UTC:20230517T163000
DTSTAMP:20260423T201748
CREATED:20220118T203021Z
LAST-MODIFIED:20230223T104118Z
UID:4478-1684328400-1684341000@nigerialeeds.org.uk
SUMMARY:LACoN - Junior
DESCRIPTION:LACoN – Junior \nThis is a popular inter school event organise by Nigerian Community Leeds within the LS9 area and beyond. The objective is to encourage young juniors in primary schools within the Leeds community.
URL:https://nigerialeeds.org.uk/event/junior-lacon/
LOCATION:lacon-junior\, Clark Lane\, LEEDS\, West Yorkshire\, LS9 8PN\, United Kingdom
CATEGORIES:Family Fun
ATTACH;FMTTYPE=image/jpeg:https://nigerialeeds.org.uk/wp-content/uploads/2020/03/img_0742.jpg
ORGANIZER;CN="Nigerian Community Leeds":MAILTO:admin@nigerialeeds.org.uk
END:VEVENT
BEGIN:VEVENT
DTSTART;TZID=UTC:20230414T190000
DTEND;TZID=UTC:20230602T200000
DTSTAMP:20260423T201748
CREATED:20220118T202130Z
LAST-MODIFIED:20230101T113710Z
UID:4475-1681498800-1685736000@nigerialeeds.org.uk
SUMMARY:Friday evening's football sessions
DESCRIPTION:LACoN Football training \nThese Fridays training sessions are organised by NCL and sponsored by Leeds City Council to prepare the Nigeria football team and the wider African community potential participants for the annual LACON Football Tournament.  \nThis is a 10 weeks an hour Friday football sessions. Don’t miss it
URL:https://nigerialeeds.org.uk/event/outdoor-activity/
LOCATION:lacon-senior\, Leopold Street\, Chapeltown\, LEEDS\, West Yorkshire\, LeopoldLS7 4AW\, United Kingdom
CATEGORIES:Family Fun
ATTACH;FMTTYPE=image/jpeg:https://nigerialeeds.org.uk/wp-content/uploads/2020/03/img_0672.jpg
ORGANIZER;CN="Nigerian Community Leeds":MAILTO:admin@nigerialeeds.org.uk
END:VEVENT
END:VCALENDAR